Workbook

Sheet 1. Входни данни
A1: Калкулатор за определяне на себестойността на проектантска услуга за изработване на проекти за сградни електрически инсталации, съгласно раздел IV от приложение №8 на Методика за за определяне на себестойността на проектантските услуги, обнародвано в ДВ, брой 46/1.06.2018г.
A7: ОБЕКТ: | C7: "Сграда със смесено предназначение", УПИ …....., кв. …......., гр. …................
A10: Входни данни за обекта:
A12: Обща застроена площ на обекта, м2 | E12: 5000
A13: Хонорарна зона | E13: 3
A14: Ориентировъчна строителна стойност на обекта в EUR за 1 м2 | E14: 220
A15: Застроена площ на повтаряема част (етаж) от обекта, м2 | E15: 800
A16: Общ брой на повтаряемите части (етажи) от обекта, м2 | E16: 3
A17: Коефицент на повтаряемост | E17: 60
A18: Авторски надзор, изготвяне екзекутивна документация, участие в приемателни комисии | E18: 0
A19: Отстъпка в цената на проекта, % | E19: 10

Sheet 2. Таблица хонорарна зона 4.1
A2: ТАБЛИЦА ЗА ОПРЕДЕЛЯНЕ НА ХОНОРАРНАТА ЗОНА, В КОЯТО ПОПАДА ОБЕКТА
G4: табл.4.1
B5: ВИД СГРАДА | C5: 1-ва хонорарна зона | D5: 2-ра хонорарна зона | E5: 3-та хонорарна зона | F5: 4-та хонорарна зона | G5: 5-та хонорарна зона
A7: 1 | B7: Жилищни сгради | C7: Бунгала, за кратък престой и нощувания както и други спомагателни сгради за временно обитаване. | D7: Едноетажни жилищни и вилни сгради с обикновени изисквания. | E7: Жилищни и вилни сгради със средни изисквания , Жилищни сгради при редово застрояване, Жилищни сгради до 4 етажа включително, над терена. | F7: Жилищни сгради с повишени изисквания, Апартаментни блокове – жилищни сгради с 5 и повече етажи над терена, Жилища за инвалиди, Терасовидни жилищни сгради, Жилища с обществено -обслужващи части в партерните етажи, Жилищни сгради в сгъстен начин на застрояване върху малки парцели. | G7: Луксозни, представителни жилищни сгради с високи изисквания, Резиденции, Реконструкция, реставрация и адаптация на исторически жилищни сгради – паметници на културата.
B8: Вид инсталация | C8: А | D8: А, Б | E8: А, Б | F8: А, Б, В, Г | G8: А, Б, В, Г
A9: 2 | B9: Жилищни сгради за колективно обитаване | D9: Нощни приюти. | E9: Пансиони за социално слаби и бездомни, Семейни пансионати, Ученически, студентски и работнически общежития, Домове за възрастни - дневно обитаване. | F9: Домове за възрастни за постоянно обитаване. | G9: Реконструкция, реставрация и адаптация на исторически сгради – паметници на културата.
B10: Вид инсталация | D10: А, Г | E10: А, Б, В | F10: А, Б, В, Г | G10: А, Б, В, Г
A11: 3 | B11: Сгради за обществено обслужване в областта на хотелиерството, общественото хранене и развлеченията. | C11: Бунгала, Заведения за бързо обслужване тип - Бюфет, Павилион, Каравана. | D11: Сгради за краткосрочно пребиваване без хранителен блок: Къмпинги, Малки хижи, Туристически спални и заслони, Пансион (хостел), Сгради със стаи за давани под наем , Закусвални, Обикновени кафе-сладкарници и питейни заведения. | E11: Семен хотел, Хотели и ресторанти 2 и 3 категория, Мотели, Планински хижи с хранителен блок, Почивни домове, Ваканционни селища, Туристически селища, Заведения за бързо хранене, Луксозни кафе-сладкарници, Нощни клубове, Дискотеки, Игрални домове, Казина, Барове. | F11: Хотели и ресторанти 4 и 5 категория, Многофункционални развлекателни комплекси. | G11: Реконструкция, реставрация и адаптация на исторически сгради – паметници на културата.
B12: Вид инсталация | C12: А | D12: А, Б | E12: А, Б, Г | F12: А, Б, В, Г | G12: А, Б, В, Г
A13: 4 | B13: Сгради за обществено обслужване в областта на културата и изкуството | D13: Малки обществени клубове за култура, естради. | E13: Циркови зали, Центрове за научно-техническа информация, Архивохранилища, Многофункционални зали с културно-просветно предназначение и др.Библиотеки и читалища, Кинозали, танцови зали, Изложбени сгради. | F13: Музеи, Художествени галерии, Концертни, оперни, театрални и др. зали, Специализирани библиотеки, Кинокомплекси. | G13: Театри, опери, и концертни зали с национално значение, Реконструкция, реставрация и адаптация на исторически сгради – паметници на културата.
B14: Вид инсталация | D14: А, Б, В | E14: А, Б, В, Г | F14: А, Б, В, Г | G14: А, Б, В, Г
A15: 5 | B15: Сгради за обществено обслужване в областта на търговията и др. | C15: Малки едноетажни търговски обекти. | D15: Търговски зали за провеждане на търгове. | E15: Супермаркети, Борси, Автосалони, Базари , Безистени и покрити пазари, Панаирни халета; Сециализирани магазини и бутици. | F15: Универсални магазини, Търговски центрове | G15: Реконструкция, реставрация и адаптация на исторически сгради – паметници на културата
B16: Вид инсталация | C16: А, Б | D16: А, Б, В | E16: А, Б, В, Г | F16: А, Б, В, Г | G16: А, Б, В, Г
A17: 6 | B17: Сгради учебни и за научни изследвания | E17: Сгради на детски градини, Общообразователни училищни сгради , Колежи, Метеорологични станции. | F17: Специални училища за лица с увреждания и специализирани училища, Университетски комплекси , Академии, Университетски сгради за научно-изследователска дейност, Обсерватории. | G17: Научно-изследователски лаборатории и центрове.
B18: Вид инсталация | E18: А, Б, В, Г | F18: А, Б, В, Г | G18: А, Б, В, Г
A19: 7 | B19: Сгради за административно обслужване | D19: Обществени клубове до 50 места. | E19: Общински административни центрове, Полицейски участъци, Малки офис-сгради. | F19: Обществени центрове, Сгради на централните и териториалните администрации, Редови съдебни сгради, Банкови и небанкови финансови сгради, Представителни офис сгради. | G19: Правителствени парламентарни сгради, Посолства, Легации, Центрове за провеждане на конференции и конгреси, Сгради на Върховния съд, прокуратура и др. Реконструкция, реставрация и адаптация на исторически сгради – паметници на културата.
B20: Вид инсталация | D20: А,Б | E20: А, Б, В, Г | F20: А, Б, В, Г | G20: А, Б, В, Г
A21: 8 | B21: Сгради за обществено обслужване с култово и религиозно предназначение | D21: Параклиси,Тепета. | E21: Малки сгради с култово и религиозно предназначение, Погребални стени и гробници. | F21: Храмове за богослужение, Катедрали, Църкви, Джамии, Синагоги и др., Манастирски комплекси, Крематориуми и обредни домове, Погребални (ритуални) салони . | G21: Реконструкция, реставрация и адаптация на исторически сгради – паметници на културата
B22: Вид инсталация | D22: А | E22: А | F22: А, Б, В, Г | G22: А, Б, В, Г
A23: 9 | B23: Сгради за обществено обслужване в областта на здравеопазването и социалните грижи | D23: Аварийни и санитарни постове, Аптеки и дрогерии, Ветеринарни лечебници(клиники), селскостопански и ветеринарни аптеки,Сгради за индивидуална и групови практики за медицинска помощ. | E23: Лечебни заведения заизвънболнична помощ -амбулатории за първична медицинска помощ и за специализирана медицинска помощ и детски консултации, Самостоятелни медико-диагностични имедико-технически лаборатории, Медицински, Стоматологични центрове и медико-стоматологични центрове,Сгради на затворнически болници, Домове за медико-социални грижи с медицинско обслужване за стари хора и лица с увреждания; Сгради на инспекция за опазване и контрол на общественото здраве, лечебници (вкл. ветеринарни) и др. | F23: Лечебни заведения за болнична помощ (родилни домове, психиатрични болници, диспансери, Центрове за спешна медицинска помощ) Медицински центрове, Центрове за трансфузионна хематология Центрове за хемодиализа, Диагностично-консултативни центрове, Болници за долекуване, продължителни терапии и/ или рехабилитация, Сгради за почивка и лечение в които се осигурява медицинско обслужване , балнеосанаториуми и други санаториални заведения;. Сгради, използвани за събиране и съхранение на кръв и биопродукти за хуманни цели и др., | G23: Многопрофилни и специализирани болници за активно лечение, Болници с висок клас на лечебно обслужване, Университетски и военни болници и клиники.
B24: Вид инсталация | D24: А, Б, Г | E24: А, Б, Г | F24: А, Б, В, Г | G24: А, Б, В, Г
A25: 10 | B25: Сгради за обществено обслужване в областта на транспорта и съобщенията | C25: Открити навеси, паркинги, хангари и навеси за велосипеди автомобилни и железопътни спирки, крайни далекосъобщителни постове - телефонни кабинки. | D25: Гаражни постройки, като допълващо застрояване, Едноетажни гаражи, Станции на кабинкови и открити въжени линии, Сгради на фарове (маяци) и други пристанищни съоръжения , Блок-постове на жп сигнализация, Пешеходни надлези(пасарелки) и подлези. | E25: Многоетажни гаражи, Паркинги интегрирани с други видове експлоатация; Диагностични транспортни пунктове, Самолетни хангари; Хангари и депа за релсови превозни средства, Приемни сгради и съоръжения на: Летища, Автогари, Железопътни гари, Морски и речни гари, Метростанции и съоръжения, Пощенски сгради, Радио и телевизионни кули, телефонни централи; Радио-телевизионни и звукозаписни студия. | F25: Сгради на телекомуникациите, Сгради за излъчване на радио и телевизионни сигнали, Диспечерски кули за контрол на въздушния трафик. | G25: Реконструкция, реставрация и адаптация на исторически сгради – паметници на културата
B26: Вид инсталация | C26: А | D26: А | E26: А, Б, В, Г | F26: А, Б, В, Г | G26: А, Б, В, Г
A27: 11 | B27: Сгради за битово обществено обслужване и други сгради некласифицирани другаде | C27: Обществени тоалетни. | E27: Сгради за битови услуги, Сгради за граждански ритуали, Обществени бани и сауни, Затвори, Пожарни станции.
B28: Вид инсталация | C28: А | E28: А, Б, В, Г
A29: 12 | B29: Сгради за спорт в урбанизирани и извънурбанизирани територии | C29: Малки обслужващи сгради към открити игрища и съоръжения | D29: Малки обслужващи сгради към спортни обекти за ветроходство, ски спортове, спускане с шейни, кънки, въздушни спортове, моделизъм и спортове с развлекателен характер | E29: Тренировъчни зали за всички видове спортове без места за публика,Сгради към яхтклубове , сърфклубове , аероклубове и др.Зали за спорт с развлекателни – миниголф, миникрикет, боулинг и др. | F29: Спортни зали за: Лекоатлетически и гимнастически игри, Плувни спортове – плуване, скокове във вода , водна топка , Колективни игри с топка – футбол, хандбал, волейбол, баскетбол и др., Зали за тенис, скуош, тенис на маса, бадминтон. Зали за зимни спортове – кънки, хокей, кърлинг и др.Зали за бокс, борба, джудо, фехтовка, вдигане на тежести и др. Зали за стрелба, стрелба с лък и др. Комплекси за отдих и развлечения; | G29: Олимпийски комплекси, Спортни комплексни съоръжения – стадиони с покрити терен и трибуни за многофункционално спортно предназначение
B30: Вид инсталация | C30: А | D30: А, Б | E30: А, Б, В, Г | F30: А, Б, В, Г | G30: А, Б, В, Г
A31: 13 | B31: Сгради с производствено предназначение | C31: Складови халета – немеханизирани. | D31: Еднопространствени фабрики , магазини на едро, затворени, едноетажни халета: обикновени работилници без кранов път. | E31: Многоетажни производствени сгради, Административно-обслужващи сгради към производствени обекти; Производствени сгради за: Мебелна и дървообработваща промишленост, текстилна и обувно – кожарска промишленост. | F31: Производствени сгради за: Хранително-вкусова промишлиност, Фармацевтичната промишленост, Машиностроене, Електротехническа промишленост. | G31: Атомни електроцентрали, Изследователски и производствени корпуси с опасно производство, Производствени сгради за металодобив: Агломерационни сгради, Коксови заводи, Стоманодобивни цехове.
B32: Вид инсталация | C32: А, В, Г | D32: А | E32: А, Б, В, Г | F32: А, Б, В, Г | G32: А, Б, В, Г
A33: 14 | B33: Селскостопански сгради | C33: Хамбари, Плевни, Открити навеси, Сеновали, Открити сушилни, и други прости селскостопански сгради. | D33: Немеханизирани складове за зърнени храни и концентриран фураж, Сушилни, Механизирани зърноплощадки; Сгради за селскостопанска техника, Парници, оранжерии. | E33: Животновъдни ферми, Конюшни, Механизирани сушилни за плодове и зеленчуци, Хранителни и фуражни кухни, Изолационни и карантинни сгради, Механизирани ремонтни работилнинци, Доилни блокове, Кланици, Битови и административно обслужващи сгради. | F33: Животновъдни комплекси: Кравеферми, Овцеферми , Птицеферми, Конезаводи и др. Лозаро-винарски предприятия, Сгради за тютюнопроизводство, Сгради за преработване на мляко, месо и риба.
B34: Вид инсталация | C34: А | D34: А, В, Г | E34: А, Б, В, Г | F34: А, Б, В, Г
A35: 15 | B35: Складови сгради | C35: Немеханизирани складове. | D35: Складове обслужвани ръчно или механизирано с техника движеща се по пода. | E35: Едноетажни и многоетажни складове обслужвани с мостови кранове, Резервоари за вода, Силузи, Резервоари за гориво, Бензиностанции, Газостанции. | F35: Закрити складове обслужвани с трансманипулатори.
B36: Вид инсталация | C36: А, В, Г | D36: А, В, Г | E36: А, Б, В, Г | F36: А, Б, В, Г
B41: Група електрически инсталации | C41: Описание на групата инсталации задължителни за проектиране спрямо определената хонорарна зона | G41: Забележка
B42: А | C42: Силнотокови инсталации: - Схеми на ел. табла, захранващи кабелни линии и трасета, осветление – основно, аварийно, евакуационно, дежурно, рекламно, захранване на ОВК и ВиК съоръжения и подобно оборудване (асансьори, подемници и др.), вкл. ръчно управление, инсталация за контакти, захранване на кухненско оборудване, захранване на системи за ВСОДТ, пожарогасене и др.; - Мълниезащита, заземление, изравняване на потенциалите; - Аварийно и резервно захранване – дизелагрегат, UPS и др.
B43: Б | C43: Основни слаботокови инсталации: - Пасивна част на структурно окабеляване, телефонна инсталация и АТЦ, телевизионна инсталация, домофонни и звънчеви системи, интерком-системи (аудио и видео), фоново озвучаване.
B44: В | C44: Системи за безопасност – пожароизвестяване, аварийно оповестяване, газ-детекция в подземни гаражи и подобни.
B45: Г | C45: Системи за сигурност – СОТ, видеонаблюдение, контрол на достъпа.

Sheet 3. Таблица стр. стойност 4.2
A2: ТАБЛИЦА ЗА ОПРЕДЕЛЯНЕ НА УСРЕДНЕНА СТРОИТЕЛНА СТОЙНОСТ ЗА ОБЕКТА
E4: табл.4.2
A5: № | B5: Вид сграда | C5: Средни цени за категории (ЕUR/м2)
C6: стандарт | D6: подобрена | E6: лукс
A7: 1 | B7: Пететажна монолитна жил. сграда | C7: 220 | D7: 258 | E7: 302
A8: 1а | B8: Пететажна жилищна сграда - ППП
A9: 1б | B9: Пететажна жилищна сграда - ЕК
A10: 2 | B10: Двуетажна еднофамилна къща | C10: 275 | D10: 317 | E10: 370
A11: 3 | B11: Едноетажна самостоятелна монолитна универсална търговска сграда | C11: 321 | D11: 345 | E11: 378
A12: 4 | B12: Едноетажна самостоятелна универсална производствена сграда | C12: 263 | D12: 305
A13: 5 | B13: Четириетажна универсална търговска сграда | C13: 280 | D13: 310 | E13: 370
A14: 6 | B14: Четириетажна универсална производствена сграда | C14: 268 | D14: 289
A15: 7 | B15: Пететажна административна сграда | C15: 303 | D15: 333 | E15: 390
A16: 8 | B16: Двуетажна административно търговска сграда | C16: 297 | D16: 342 | E16: 380
A17: 9 | B17: Еднофамилна вила на два етажа | C17: 351 | D17: 394 | E17: 455
A18: 10 | B18: Едноетажна постройка лек тип | C18: 139 | D18: 177
A19: 11 | B19: Универсални навеси с три стени | C19: 69
A20: 12 | B20: Едносекционна панелна сграда | C20: 205
A21: 13 | B21: Производствено хале от сглобяем стоманобетон | C21: 260
A22: 14 | B22: Производствено хале, стомана - студено | C22: 273
A23: 15 | B23: Производствено хале, стомана - топло | C23: 334 | D23: 373
A24: 16 | B24: Монолитен гараж в двор | C24: 132
A25: 17 | B25: Едноетажна търговска сграда от стоманена конструкция | C25: 354 | D25: 402
A26: 18 | B26: Едноетажна обслужваща монолитна сграда | C26: 307 | D26: 358
A27: 19 | B27: Едноетажна обслужваща сграда - стоманена конструкция | C27: 300 | D27: 346
A28: 20 | B28: Хотел *** | C28: 269
A29: 21 | B29: Хотел ** | C29: 245
A30: 22 | B30: Мотел ***
A31: 23 | B31: Четириетажна монолитна жилищна сграда | C31: 236 | D31: 280 | E31: 315

Sheet Междинни резултати 1
A2: ИЗЧИЛЕНИЯ И МЕЖДИННИ РЕЗУЛТАТИ 1
A5: ОБЕКТ: | B5: ='1. Входни данни'!C7 -> "Сграда със смесено предназначение", УПИ …....., кв. …......., гр. …................
B8: Обща застроена площ на обекта, м2 | C8: ='1. Входни данни'!E12 -> 5000 | D8: м2
B9: Ориентировъчна строителна стойност на обекта в EUR /м2 | C9: ='1. Входни данни'!E14 -> 220 | D9: EUR
B10: Строителна стойност, СС | C10: =C9*C8*1.958 -> 2153800 | D10: лв.
B11: Хонорарна зона | C11: ='1. Входни данни'!E13 -> 3
B12: Кхз (коефицент на хонорарната зона) | C12: =HLOOKUP(C11,$Y$28:$AC$30,2) -> 1
B13: Ксс (коефицент на строителната стойност) | C13: =VLOOKUP(C10,$U$33:$W$46,2,TRUE) -> 76
B14: Б, мин. Базова стойност на проекта | C14: =HLOOKUP(C11,$Y$28:$AC$30,3) -> 220 | D14: лв.
B15: Отстъпка, % | C15: ='1. Входни данни'!E19 -> 10 | D15: %
B16: Себестойност на проектантската услуга ССПУ, лв. | C16: =C14+(C10*C12*C13)/10000 -> 16588.88 | D16: лв.
B17: Себестойност на проектантската услуга ССПУ с отстъпка, без отчитане на корекционна стойност за повтаряемите части от обекта, лв. | C17: =C14+(C10*C12*C13)/10000-((C14+(C10*C12*C13)/10000)*(C15/100)) -> 14929.992 | D17: лв.
B18: Корекционна стойност при повтаряеми части от обекта, лв | C18: =((('1. Входни данни'!E15*'1. Входни данни'!E16)-'1. Входни данни'!E15)/'1. Входни данни'!E12)*C17*(C19/100) -> 2866.5585 | D18: лв.
B19: Коефицент на повтаряемост | C19: ='1. Входни данни'!E17 -> 60 | D19: %
B20: Себестойност на проектантската услуга ССПУ, лв | C20: =C17-C18 -> 12063.434 | D20: лв.
B21: % от общата строителна стойност на обекта, СС | C21: =C20/C10*100 -> 0.56009999 | D21: %
B22: Средна стойност, лв на м2 | C22: =C20/C8 -> 2.4126867 | D22: лв/м2 | U22: =VLOOKUP(#REF!,$U$33:$W$46,2,TRUE) -> #REF!
B23: Средна стойност, EUR на м2 | C23: =C20/C8/1.958 -> 1.23222 | D23: EUR/м2
X28: Хонорарна зона | Y28: 1 | Z28: 2 | AA28: 3 | AB28: 4 | AC28: 5
X29: Кхз | Y29: 0.8 | Z29: 0.85 | AA29: 1 | AB29: 1.1 | AC29: 1.15
X30: Б, лв | Y30: 200 | Z30: 210 | AA30: 220 | AB30: 240 | AC30: 280
T32: Ксс, коефицент на строителната стойност
U33: 1 | W33: =V32 -> 0
T34: До 100000 | U34: 1 | V34: 110 | W34: =V33 -> 0
T35: 100 000 – 200 000 | U35: 100000 | V35: 105 | W35: =V34 -> 110
T36: 200 000 – 300 000 | U36: 200000 | V36: 103 | W36: =V35 -> 105
T37: 300 000 – 400 000 | U37: 300000 | V37: 101 | W37: =V36 -> 103
T38: 400 000 – 500 000 | U38: 400000 | V38: 99 | W38: =V37 -> 101
T39: 500 000 – 600 000 | U39: 500000 | V39: 97 | W39: =V38 -> 99
T40: 600 000 – 700 000 | U40: 600000 | V40: 95 | W40: =V39 -> 97
T41: 700 000 – 800 000 | U41: 700000 | V41: 93 | W41: =V40 -> 95
T42: 800 000 – 900 000 | U42: 800000 | V42: 91 | W42: =V41 -> 93
T43: 900 000 – 1 000 000 | U43: 900000 | V43: 89 | W43: =V42 -> 91
T44: 1 000 000 – 3 000 000 | U44: 1000000 | V44: 76 | W44: =V43 -> 89
T45: Над 3 000 000 | U45: 3000000 | V45: 70 | W45: 70
U46: 100000000 | W46: 70
U47: 1e+15 | AE47: Група електрически инсталации | AF47: Описание на групата инсталации задължителни за проектиране спрямо определената хонорарна зона | AJ47: Приблизителна тежест на стойността за групата инсталации, % | AK47: Стойност на коефицента
AE48: А | AF48: Силнотокови инсталации: Схеми на ел. табла, захранващи кабели, осветление – основно, аварийно, дежурно, рекламно, захранване на ОВК, ВК и подобно оборудване (асансьори, подемници и др.), вкл. ръчно управление, инсталация за контакти, захранване на кухненско оборудване, захранване на системи за ВСОДТ, пожарогасене и др.; мълниезащита, заземление, изравняване на потенциалите, Аварийно и резервно захранване – дизелагрегат, UPS | AJ48: 60 | AK48: =AJ48/100 -> 0.6
AE49: Б | AF49: Основни слаботокови инсталации – пасивна част на структурно окабеляване, телефонна инсталация и АТЦ, кабелна телевизия, домофонни и звънчеви системи и интерком-системи (аудио и видео), фоново озвучаване | AJ49: 22 | AK49: =AJ49/100 -> 0.22
AE50: В | AF50: Системи за безопасност – пожароизвестяване, аварийно оповестяване, газ-детекция в подземни гаражи и подобни | AJ50: 12 | AK50: =AJ50/100 -> 0.12
AE51: Г | AF51: Системи за сигурност – СОТ, видеонаблюдение, контрол на достъпа | AJ51: 6 | AK51: =AJ51/100 -> 0.06

Sheet Междинни резултати 2
A2: ИЗЧИЛЕНИЯ И МЕЖДИННИ РЕЗУЛТАТИ 2
A5: ОБЕКТ: | B5: ='1. Входни данни'!C7 -> "Сграда със смесено предназначение", УПИ …....., кв. …......., гр. …................
I7: ССПУ, лв | J7: ='Междинни резултати 1'!C20 -> 12063.434
A8: Проектиране в три фази - Идеен, Технически, Работен проект
A9: № | B9: Фаза | D9: Стойност, лв без ДДС
A10: 1 | B10: Идеен проект | D10: =$J$7*(G10/100) -> 3076.1756 | G10: 25.5 | H10: %
A11: 2 | B11: Технически проект | D11: =$J$7*(G11/100) -> 5126.9593 | G11: 42.5 | H11: %
A12: 3 | B12: Кол.сметка и спецификация на оборудването | D12: =$J$7*(G12/100) -> 512.69593 | G12: 4.25 | H12: %
A13: 4 | B13: Работен проект | D13: =$J$7*(G13/100) -> 1538.0878 | G13: 12.75 | H13: %
A14: 5 | B14: Авторски надзор, екзекутивна документация, приемателни комисии | D14: =$J$7*(G14/100)*'1. Входни данни'!E18 -> 0 | G14: 15 | H14: %
A15: Общо: | D15: =SUM(D10:D14) -> 10253.919 | F15: общо: | G15: =SUM(G10:G14) -> 100 | H15: %
B16: Средна стойност, лв на м2 | C16: =D15/'1. Входни данни'!E12 -> 2.0507837 | D16: лв/м2
B17: Средна стойност, EUR на м2 | C17: =C16/1.958 -> 1.047387 | D17: EUR/м2
A21: Проектиране в две фази - Идеен проект, Технически проект
A22: № | B22: Фаза | D22: Стойност, лв без ДДС
A23: 1 | B23: Идеен проект | D23: =$J$7*(G23/100) -> 2714.2725 | G23: 22.5 | H23: %
A24: 2 | B24: Технически проект | D24: =$J$7*(G24/100) -> 5880.9238 | G24: 48.75 | H24: %
A25: 3 | B25: Кол.сметка и спецификация на оборудването | D25: =$J$7*(G25/100) -> 452.37876 | G25: 3.75 | H25: %
A26: 4 | B26: Авторски надзор, екзекутивна документация, приемателни комисии | D26: =$J$7*(G26/100)*'1. Входни данни'!E18 -> 0 | G26: 15 | H26: %
A27: Общо: | D27: =SUM(D23:D26) -> 9047.5752 | F27: общо: | G27: =SUM(G23:G26) -> 90 | H27: %
B28: Средна стойност, лв на м2 | C28: =D27/'1. Входни данни'!E12 -> 1.809515 | D28: лв/м2
B29: Средна стойност, EUR на м2 | C29: =C28/1.958 -> 0.92416498 | D29: EUR/м2
A33: Проектиране в две фази - Идеен проект, Работен проект
A34: № | B34: Фаза | D34: Стойност, лв без ДДС
A35: 1 | B35: Идеен проект | D35: =$J$7*(G35/100) -> 2593.6382 | G35: 21.5 | H35: %
A36: 2 | B36: Работен проект | D36: =$J$7*(G36/100) -> 7177.743 | G36: 59.5 | H36: %
A37: 3 | B37: Кол.сметка и спецификация на оборудването | D37: =$J$7*(G37/100) -> 482.53734 | G37: 4 | H37: %
A38: 4 | B38: Авторски надзор, екзекутивна документация, приемателни комисии | D38: =$J$7*(G38/100)*'1. Входни данни'!E18 -> 0 | G38: 15 | H38: %
A39: Общо: | D39: =SUM(D35:D38) -> 10253.919 | F39: общо: | G39: =SUM(G35:G38) -> 100 | H39: %
B40: Средна стойност, лв на м2 | C40: =D39/'1. Входни данни'!E12 -> 2.0507837 | D40: лв/м2
B41: Средна стойност, EUR на м2 | C41: =C40/1.958 -> 1.047387 | D41: EUR/м2
A45: Проектиране в една фаза - Технически проект
A46: № | B46: Фаза | D46: Стойност, лв без ДДС
A47: 1 | B47: Технически проект | D47: =$J$7*(G47/100) -> 8595.1964 | G47: 71.25 | H47: %
A48: 2 | B48: Кол.сметка и спецификация на оборудването | D48: =$J$7*(G48/100) -> 452.37876 | G48: 3.75 | H48: %
A49: 3 | B49: Авторски надзор, екзекутивна документация, приемателни комисии | D49: =$J$7*(G49/100)*'1. Входни данни'!E18 -> 0 | G49: 15 | H49: %
A50: Общо: | D50: =SUM(D47:D49) -> 9047.5752 | F50: общо: | G50: =SUM(G47:G49) -> 90 | H50: %
B51: Средна стойност, лв на м2 | C51: =D50/'1. Входни данни'!E12 -> 1.809515 | D51: лв/м2
B52: Средна стойност, EUR на м2 | C52: =C51/1.958 -> 0.92416498 | D52: EUR/м2
A56: Проектиране в една фаза - Работен проект
A57: № | B57: Фаза | D57: Стойност, лв без ДДС
A58: 1 | B58: Работен проект | D58: =$J$7*(G58/100) -> 9741.2226 | G58: 80.75 | H58: %
A59: 2 | B59: Кол.сметка и спецификация на оборудването | D59: =$J$7*(G59/100) -> 512.69593 | G59: 4.25 | H59: %
A60: 3 | B60: Авторски надзор, екзекутивна документация, приемателни комисии | D60: =$J$7*(G60/100)*'1. Входни данни'!E18 -> 0 | G60: 15 | H60: %
A61: Общо: | D61: =SUM(D58:D60) -> 10253.919 | F61: общо: | G61: =SUM(G58:G60) -> 100 | H61: %
B62: Средна стойност, лв на м2 | C62: =D61/'1. Входни данни'!E12 -> 2.0507837 | D62: лв/м2
B63: Средна стойност, EUR на м2 | C63: =C62/1.958 -> 1.047387 | D63: EUR/м2
A67: Проектиране в една фаза - Идеен проект
A68: № | B68: Фаза | D68: Стойност, лв без ДДС
A69: 1 | B69: Идеен проект | D69: =$J$7*(G69/100) -> 3619.0301 | G69: 30 | H69: %
A70: Общо: | D70: =SUM(D69:D69) -> 3619.0301 | F70: общо: | G70: =SUM(G69:G69) -> 30 | H70: %
B71: Средна стойност, лв на м2 | C71: =D70/'1. Входни данни'!E12 -> 0.72380601 | D71: лв/м2
B72: Средна стойност, EUR на м2 | C72: =C71/1.958 -> 0.36966599 | D72: EUR/м2
Q94: Група електрически инсталации | R94: Описание на групата инсталации задължителни за проектиране спрямо определената хонорарна зона | V94: Приблизителна тежест на стойността за групата инсталации, % | W94: Стойност на коефицента
Q95: А | R95: Силнотокови инсталации: Схеми на ел. табла, захранващи кабели, осветление – основно, аварийно, дежурно, рекламно, захранване на ОВК, ВК и подобно оборудване (асансьори, подемници и др.), вкл. ръчно управление, инсталация за контакти, захранване на кухненско оборудване, захранване на системи за ВСОДТ, пожарогасене и др.; мълниезащита, заземление, изравняване на потенциалите, Аварийно и резервно захранване – дизелагрегат, UPS | V95: 60 | W95: =V95/100 -> 0.6
Q96: Б | R96: Основни слаботокови инсталации – пасивна част на структурно окабеляване, телефонна инсталация и АТЦ, кабелна телевизия, домофонни и звънчеви системи и интерком-системи (аудио и видео), фоново озвучаване | V96: 22 | W96: =V96/100 -> 0.22
Q97: В | R97: Системи за безопасност – пожароизвестяване, аварийно оповестяване, газ-детекция в подземни гаражи и подобни | V97: 12 | W97: =V97/100 -> 0.12
Q98: Г | R98: Системи за сигурност – СОТ, видеонаблюдение, контрол на достъпа | V98: 6 | W98: =V98/100 -> 0.06

Sheet ОФЕРТА ПРОЕКТИРАНЕ
B2: ОФЕРТА
D4: На вниманието на ……………………………..
B6: ОБЕКТ: | C6: ='1. Входни данни'!C7 -> "Сграда със смесено предназначение", УПИ …....., кв. …......., гр. …................
B9: Във връзка с вашето запитване, Ви предлагаме изготвяне на проектна документация, част „Електрическа“, включваща следните видове сградни инсталации:
A13: А | B13: Силнотокови инсталации: - Схеми на ел. табла, захранващи кабелни линии и трасета, осветление – основно, аварийно, евакуационно, дежурно, рекламно, захранване на ОВК и ВиК съоръжения и подобно оборудване (асансьори, подемници и др.), вкл. ръчно управление, инсталация за контакти, захранване на кухненско оборудване, захранване на системи за ВСОДТ, пожарогасене и др.; - Мълниезащита, заземление, изравняване на потенциалите; - Аварийно и резервно захранване – дизелагрегат, UPS и др. | F13: Видовете инсталации, които е необходимо да се проектират се определят в зависимост от хонорарната зона, в която вече е определена сградата и вида й. Таблица 4.1 (sheet 2) НЕНУЖНИЯТ РЕД СЕ СКРИВА
A14: Б | B14: Основни слаботокови инсталации: - Пасивна част на структурно окабеляване, телефонна инсталация и АТЦ, телевизионна инсталация, домофонни и звънчеви системи, интерком-системи (аудио и видео), фоново озвучаване.
A15: В | B15: Системи за безопасност – пожароизвестяване, аварийно оповестяване, газ-детекция в подземни гаражи и подобни
A16: Г | B16: Системи за сигурност – СОТ, видеонаблюдение, контрол на достъпа
B21: Проектирането ще се извърши в три фази - идеен, технически и работен проект. Общата цена за проектиране на обекта е: | F21: Остава само една от опциите, в зависимост от възложените фази на проектиране. ОСТАНАЛИТЕ СЕ СКРИВАТ
C23: ='Междинни резултати 2'!D15 -> 10253.919 | D23: лв. без ДДС
C24: ='Междинни резултати 2'!C16 -> 2.0507837 | D24: лв/м2 без ДДС | E24: по РЗП на обекта.
B25: В цената е включен/не е включен авторски надзор, изготвяне на екзекутивна документация и участие в приемателни комисии.
B29: Проектирането ще се извърши в две фази - идеен проект, технически проект. Общата цена за проектиране на обекта е:
C31: ='Междинни резултати 2'!D27 -> 9047.5752 | D31: лв. без ДДС
C32: ='Междинни резултати 2'!C28 -> 1.809515 | D32: лв/м2 без ДДС | E32: по РЗП на обекта.
B33: В цената е включен/не е включен авторски надзор, изготвяне на екзекутивна документация и участие в приемателни комисии.
B37: Проектирането ще се извърши в две фази - идеен проект, работен проект. Общата цена за проектиране на обекта е:
C39: ='Междинни резултати 2'!D39 -> 10253.919 | D39: лв. без ДДС
C40: ='Междинни резултати 2'!C40 -> 2.0507837 | D40: лв/м2 без ДДС | E40: по РЗП на обекта.
B41: В цената е включен/не е включен авторски надзор, изготвяне на екзекутивна документация и участие в приемателни комисии.
B45: Проектирането ще се извърши в една фаза - технически проект. Общата цена за проектиране на обекта е:
C47: ='Междинни резултати 2'!D50 -> 9047.5752 | D47: лв. без ДДС
C48: ='Междинни резултати 2'!C51 -> 1.809515 | D48: лв/м2 без ДДС | E48: по РЗП на обекта.
B49: В цената е включен/не е включен авторски надзор, изготвяне на екзекутивна документация и участие в приемателни комисии.
B53: Проектирането ще се извърши в една фаза - работен проект. Общата цена за проектиране на обекта е:
C55: ='Междинни резултати 2'!D61 -> 10253.919 | D55: лв. без ДДС
C56: ='Междинни резултати 2'!C62 -> 2.0507837 | D56: лв/м2 без ДДС | E56: по РЗП на обекта.
B57: В цената е включен/не е включен авторски надзор, изготвяне на екзекутивна документация и участие в приемателни комисии.
B61: Проектирането ще се извърши в една фаза - идеен проект. Общата цена за проектиране на обекта е:
C63: ='Междинни резултати 2'!D70 -> 3619.0301 | D63: лв. без ДДС
C64: ='Междинни резултати 2'!C71 -> 0.72380601 | D64: лв/м2 без ДДС | E64: по РЗП на обекта.
B65: В цената е включен/не е включен авторски надзор, изготвяне на екзекутивна документация и участие в приемателни комисии.
B70: ЗАБЕЛЕЖКИ:
B71: 1. | C71: Цената за проектиране е валидна само за конкретния обект;
B72: 2. | C72: Начин на плащане – 50% аванс, 50% при предаване на проектната документация.
B73: 3. | C73: Срок за изпълнение на поръчката – 25 работни дни след получаване на задание и проекти,части ОВК и ВиК.
B75: 4. | C75: В цената за проектиране се включват разработката и на мрежи на прилежащата площадка, като осветление на подход към сградата, трасе на захранващите мрежи през него, озвучаване, видеонаблюдение на дворната част, контрол на достъп и подобни, но не се включват и следва да бъдат определени отделно, проекти за захранващи източници (трансформаторен пост и подобни), и за кабелни мрежи между отделни подобекти, разположени на една площадка, осветление на площадкови пътища и алеи, видеонаблюдение, озвучаване и др.
B82: 5. | C82: Цената на проектантска услуга за изработване на проетната документация е определена, съгласно раздел IV от приложение №8 на Методика за изменение и допълнение на Методиката за определяне на размера на възнагражденията за предоставяне на проектантски услуги от инженерите в устройственото планиране и инвестиционното проектиране, обнародвана в ДВ, брой 46/1.06.2018г.
C89: Изготвил: | D89: инж. ……………………………………..
